BEGIN:VCALENDAR
VERSION:2.0
PRODID:-//Rebecca Tolle - ECPv6.15.20//NONSGML v1.0//EN
CALSCALE:GREGORIAN
METHOD:PUBLISH
X-ORIGINAL-URL:https://rebeccatolle.com
X-WR-CALDESC:Events for Rebecca Tolle
REFRESH-INTERVAL;VALUE=DURATION:PT1H
X-Robots-Tag:noindex
X-PUBLISHED-TTL:PT1H
BEGIN:VTIMEZONE
TZID:America/North_Dakota/Beulah
BEGIN:DAYLIGHT
TZOFFSETFROM:-0600
TZOFFSETTO:-0500
TZNAME:CDT
DTSTART:20230312T080000
END:DAYLIGHT
BEGIN:STANDARD
TZOFFSETFROM:-0500
TZOFFSETTO:-0600
TZNAME:CST
DTSTART:20231105T070000
END:STANDARD
BEGIN:DAYLIGHT
TZOFFSETFROM:-0600
TZOFFSETTO:-0500
TZNAME:CDT
DTSTART:20240310T080000
END:DAYLIGHT
BEGIN:STANDARD
TZOFFSETFROM:-0500
TZOFFSETTO:-0600
TZNAME:CST
DTSTART:20241103T070000
END:STANDARD
BEGIN:DAYLIGHT
TZOFFSETFROM:-0600
TZOFFSETTO:-0500
TZNAME:CDT
DTSTART:20250309T080000
END:DAYLIGHT
BEGIN:STANDARD
TZOFFSETFROM:-0500
TZOFFSETTO:-0600
TZNAME:CST
DTSTART:20251102T070000
END:STANDARD
END:VTIMEZONE
BEGIN:VEVENT
DTSTART;VALUE=DATE:20241006
DTEND;VALUE=DATE:20241111
DTSTAMP:20260423T112557
CREATED:20240113T180657Z
LAST-MODIFIED:20240907T010915Z
UID:4364-1728172800-1731283199@rebeccatolle.com
SUMMARY:Owatonna Arts Center Exhibit
DESCRIPTION:Rebecca Tolle and Maryrose Gondeck will display some of their most intriguing art at the Owatonna Arts Center. Rebecca will present her oil paintings while Maryrose will have her drawings. 
URL:https://rebeccatolle.com/exhibit/owatonna-arts-center-exhibit/
LOCATION:Owatonna Arts Center\, 435 Garden View Lane\, PO Box 134\, Owatonna\, MN\, 55060
ATTACH;FMTTYPE=image/jpeg:https://rebeccatolle.com/wp-content/uploads/2022/10/Red-Wing3.jpg
ORGANIZER;CN="Rebecca Tolle":MAILTO:info@tollefineart.com
END:VEVENT
BEGIN:VEVENT
DTSTART;VALUE=DATE:20241004
DTEND;VALUE=DATE:20241007
DTSTAMP:20260423T112557
CREATED:20240907T011517Z
LAST-MODIFIED:20240907T011935Z
UID:4577-1728000000-1728259199@rebeccatolle.com
SUMMARY:Studio ArTour
DESCRIPTION:Join us for the 20th Annual 2024 Studio ArTour. Friday\, October 4 • 4pm – 8pm\, Saturday\, October 5 • 10am – 6pm\, Sunday\, October 6 • 10am – 5pm. This year\, Katya Block will be showing her ceramics. 
URL:https://rebeccatolle.com/exhibit/studio-artour/
LOCATION:Tolle Fine Art\, 508 Division St S\, Northfield\, MN\, 55057
END:VEVENT
BEGIN:VEVENT
DTSTART;TZID=America/North_Dakota/Beulah:20240706T110000
DTEND;TZID=America/North_Dakota/Beulah:20240707T160000
DTSTAMP:20260423T112557
CREATED:20240113T183510Z
LAST-MODIFIED:20240113T183510Z
UID:4385-1720263600-1720368000@rebeccatolle.com
SUMMARY:Northfield Garden Club\, Garden Tour
DESCRIPTION:Each July\, the Northfield Garden Club opens the gardens of selected homeowners to the public. This garden tour is organized\, advertised\, and hosted by the Garden Club. This is a ticketed event\, the proceeds from which go to support the organization’s grants program and other charitable activities.  Tickets are $10 and available at each site. \nRebecca will present her art at one of the garden sites. Presentation times and exact locations will be announced in the spring. The Garden Tour occurs from 11:00am to 4:00pm on Saturday July 6 and Sunday July 7.
URL:https://rebeccatolle.com/exhibit/northfield-garden-club-garden-tour/
LOCATION:MN
ATTACH;FMTTYPE=image/jpeg:https://rebeccatolle.com/wp-content/uploads/2018/03/image6.jpg
ORGANIZER;CN="Rebecca Tolle":MAILTO:info@tollefineart.com
END:VEVENT
BEGIN:VEVENT
DTSTART;TZID=America/North_Dakota/Beulah:20240514T130000
DTEND;TZID=America/North_Dakota/Beulah:20240514T153000
DTSTAMP:20260423T112557
CREATED:20240113T173739Z
LAST-MODIFIED:20240222T191701Z
UID:4352-1715691600-1715700600@rebeccatolle.com
SUMMARY:Oil and Cold Wax at FiftyNorth
DESCRIPTION:Rebecca is one of the region’s premier oil and cold wax painters. Due to popular demand\, she will return to FiftyNorth to teach this fresh technique to more eager students. The class will be held on Tuesday May 14 from 1:00 to 3:30 pm. Please make payments to FiftyNorth. \n\nFiftyNorth platinum members: $18\nFiftyNorth members: $69\nNonmembers: $73\n\nCold wax is a non-heated and creamy beeswax substance. When oil and cold wax are combined\, it creates a great translucent effect that allows light to pass through the previous layers. This medium works quite well for those artists who take a process-driven approach to their art. With chopsticks\, spreaders\, window squeegees\, and other mark-making tools\, you will give your painting a sense of history through its unique textures. Besides\, it’s a lot of fun! You will feel a sense of discovery\, and you may be surprised how this technique impacts your paintings.
URL:https://rebeccatolle.com/exhibit/oil-and-cold-wax-at-fiftynorth/
LOCATION:FiftyNorth\, 1651 Jefferson Pkwy\, Northfield\, MN\, 55057
ATTACH;FMTTYPE=image/jpeg:https://rebeccatolle.com/wp-content/uploads/2018/08/Marsh-and-Grasses-Rebecca-Tolle.jpg
ORGANIZER;CN="Rebecca Tolle":MAILTO:info@tollefineart.com
END:VEVENT
END:VCALENDAR